BEGIN:VCALENDAR
VERSION:2.0
PRODID:-//Luttons Parish Council//Meeting Calendar//EN
CALSCALE:GREGORIAN
METHOD:PUBLISH
BEGIN:VEVENT
UID:70368-20240905@luttonsparishcouncil.gov.uk
DTSTAMP:20260422T120159Z
DTSTART;VALUE=DATE:20240905
DTEND;VALUE=DATE:20240906
SUMMARY:5th September 2024
DESCRIPTION:Full Council Meeting\nView details: https://luttonsparishcouncil.gov.uk/meetings/full-council-2/
URL:https://luttonsparishcouncil.gov.uk/meetings/full-council-2/
END:VEVENT
END:VCALENDAR
